BEGIN:VCALENDAR
VERSION:2.0
PRODID:-//Psychologists’ Association of Alberta - ECPv6.15.13.1//NONSGML v1.0//EN
CALSCALE:GREGORIAN
METHOD:PUBLISH
X-WR-CALNAME:Psychologists’ Association of Alberta
X-ORIGINAL-URL:https://paadev.pderaswebsites.com
X-WR-CALDESC:Events for Psychologists’ Association of Alberta
REFRESH-INTERVAL;VALUE=DURATION:PT1H
X-Robots-Tag:noindex
X-PUBLISHED-TTL:PT1H
BEGIN:VTIMEZONE
TZID:America/Edmonton
BEGIN:DAYLIGHT
TZOFFSETFROM:-0700
TZOFFSETTO:-0600
TZNAME:MDT
DTSTART:20220313T090000
END:DAYLIGHT
BEGIN:STANDARD
TZOFFSETFROM:-0600
TZOFFSETTO:-0700
TZNAME:MST
DTSTART:20221106T080000
END:STANDARD
BEGIN:DAYLIGHT
TZOFFSETFROM:-0700
TZOFFSETTO:-0600
TZNAME:MDT
DTSTART:20230312T090000
END:DAYLIGHT
BEGIN:STANDARD
TZOFFSETFROM:-0600
TZOFFSETTO:-0700
TZNAME:MST
DTSTART:20231105T080000
END:STANDARD
BEGIN:DAYLIGHT
TZOFFSETFROM:-0700
TZOFFSETTO:-0600
TZNAME:MDT
DTSTART:20240310T090000
END:DAYLIGHT
BEGIN:STANDARD
TZOFFSETFROM:-0600
TZOFFSETTO:-0700
TZNAME:MST
DTSTART:20241103T080000
END:STANDARD
END:VTIMEZONE
BEGIN:VEVENT
DTSTART;TZID=America/Edmonton:20231017T130000
DTEND;TZID=America/Edmonton:20231017T160000
DTSTAMP:20260425T074303
CREATED:20230815T204508Z
LAST-MODIFIED:20240619T212611Z
UID:41988-1697547600-1697558400@paadev.pderaswebsites.com
SUMMARY:Testifying In Court as a Psychologist - VIRTUAL
DESCRIPTION:Abstract				\n				\n					\n		\n				\n			\n						\n						\n									This talk is designed to appeal broadly to psychologists in general practice. The talk is designed to help psychologists better understand the different ways/means that they might be called as a witness for court or some other legal proceeding. There will be a discussion about the court process in general as well as a discussion of frequent pitfalls psychologists might experience in delivering testimony. 								\n				\n					\n		\n					\n		\n				\n						\n					\n			\n						\n						\n					Learning Objectives				\n				\n					\n		\n				\n			\n						\n						\n									Learning about different legal contexts where one might testifyKnowing the differences between a general and expert witnessLearning the case law pertaining to testifying in courtKnowing general strategies to prepare for courtLearning how to respond to a subpoena								\n				\n					\n		\n					\n		\n				\n						\n					\n			\n						\n						\n					Intended Audience				\n				\n					\n		\n				\n			\n						\n						\n									Psychologists and Provisionally Registered Psychologists 								\n				\n					\n		\n					\n		\n				\n						\n					\n			\n						\n						\n					Speaker				\n				\n					\n		\n				\n			\n						\n						\n					\n			\n						\n						\n																														\n				\n					\n		\n				\n			\n						\n						\n					Andrew M. Haag\, Ph.D.				\n				\n					\n		\n					\n		\n				\n						\n					\n			\n							\n		\n				\n			\n						\n						\n									This webinar is led by Dr. Andrew Haag. 								\n				\n					\n		\n					\n		\n					\n		\n					\n		\n				\n						\n					\n			\n						\n						\n					CE Credits				\n				\n					\n		\n				\n			\n						\n						\n									The Psychologists’ Association of Alberta (PAA) is approved by the Canadian Psychological Association (CPA) to offer Continuing Education (CE) for psychologists. This workshop is offered for three (3.0) hours of CE Credit. Full attendance at the workshop is required to receive Continuing Education Credits. Partial credit will not be awarded\, and late arrivals or early departure will preclude awarding of Continuing Education Credits. PAA maintains responsibility for the program. Credits: 3.0 								\n				\n					\n		\n					\n		\n				\n						\n					\n			\n						\n						\n					Cancellation and Refunds				\n				\n					\n		\n				\n			\n						\n						\n									Cancellation and refunds may be applied for by email or phone call to the PAA Office. Cancellations received fourteen (14) days prior to the Continuing Professional Development activity will receive a full refund of the registration fee\, less a $35.00 + GST processing fee. PAA reserves the right to cancel any activity\, in which case a full refund of the registration fee will be provided.
URL:https://paadev.pderaswebsites.com/event/testifying-in-court/
LOCATION:Online
END:VEVENT
END:VCALENDAR