BEGIN:VCALENDAR
VERSION:2.0
PRODID:-//Psychologists’ Association of Alberta - ECPv6.15.13.1//NONSGML v1.0//EN
CALSCALE:GREGORIAN
METHOD:PUBLISH
X-WR-CALNAME:Psychologists’ Association of Alberta
X-ORIGINAL-URL:https://paadev.pderaswebsites.com
X-WR-CALDESC:Events for Psychologists’ Association of Alberta
REFRESH-INTERVAL;VALUE=DURATION:PT1H
X-Robots-Tag:noindex
X-PUBLISHED-TTL:PT1H
BEGIN:VTIMEZONE
TZID:America/Edmonton
BEGIN:DAYLIGHT
TZOFFSETFROM:-0700
TZOFFSETTO:-0600
TZNAME:MDT
DTSTART:20220313T090000
END:DAYLIGHT
BEGIN:STANDARD
TZOFFSETFROM:-0600
TZOFFSETTO:-0700
TZNAME:MST
DTSTART:20221106T080000
END:STANDARD
BEGIN:DAYLIGHT
TZOFFSETFROM:-0700
TZOFFSETTO:-0600
TZNAME:MDT
DTSTART:20230312T090000
END:DAYLIGHT
BEGIN:STANDARD
TZOFFSETFROM:-0600
TZOFFSETTO:-0700
TZNAME:MST
DTSTART:20231105T080000
END:STANDARD
BEGIN:DAYLIGHT
TZOFFSETFROM:-0700
TZOFFSETTO:-0600
TZNAME:MDT
DTSTART:20240310T090000
END:DAYLIGHT
BEGIN:STANDARD
TZOFFSETFROM:-0600
TZOFFSETTO:-0700
TZNAME:MST
DTSTART:20241103T080000
END:STANDARD
END:VTIMEZONE
BEGIN:VEVENT
DTSTART;TZID=America/Edmonton:20231213T120000
DTEND;TZID=America/Edmonton:20231213T133000
DTSTAMP:20260424T114414
CREATED:20231030T183643Z
LAST-MODIFIED:20240619T212122Z
UID:45433-1702468800-1702474200@paadev.pderaswebsites.com
SUMMARY:PAA Ethics Round Table - Best Practices to support Ethical Decision Making w/ Dr. Harpreet Gill
DESCRIPTION:About:				\n				\n				\n						\n									The PAA Ethics Round Tables (PERT)\, is a peer-support program to enhance ethical professional practice and decision making. Seats are limited to 15\, and only the first 15 applicants with valid participation agreements will receive a seat. This program is not intended to provide clinical supervision nor to offer an expert opinion or detailed consultation on one specific case. This program is not personalized professional guidance such as that offered by the College of Alberta Psychologist’s Professional Guidance program nor is it one-to-one practice advisor support such as that offered by the PAA Practice Advisor Program. These sessions will not be recorded\, and minutes or notes will not be taken.   								\n				\n				\n						\n					\n			\n						\n						\n					Facilitator:				\n				\n				\n						\n					Dr. Harpreet Gill				\n				\n					\n		\n				\n			\n						\n						\n																														\n				\n					\n		\n					\n		\n				\n						\n					\n			\n						\n						\n									Harpreet Gill\, Ph.D. R. Psych.\, is PAA’s new Director of Professional Guidance. She is a Registered Psychologist in Alberta with over 16 years of counseling experience with adults and couples. She has worked in the Employee Family Assistance Program (EFAP)\, and private and non-profit settings. Her areas of expertise include depression\, anxiety\, PTSD\, relationship issues\, grief\, addictions (including assessments)\, trauma\, self-esteem issues\, and immigrants’ mental health concerns.   								\n				\n				\n						\n					Registration:
URL:https://paadev.pderaswebsites.com/event/paa-ethics-round-w-dr-harpreet-gill/
LOCATION:Alberta\, Canada
END:VEVENT
END:VCALENDAR