BEGIN:VCALENDAR
VERSION:2.0
PRODID:-//Psychologists’ Association of Alberta - ECPv6.15.13.1//NONSGML v1.0//EN
CALSCALE:GREGORIAN
METHOD:PUBLISH
X-WR-CALNAME:Psychologists’ Association of Alberta
X-ORIGINAL-URL:https://paadev.pderaswebsites.com
X-WR-CALDESC:Events for Psychologists’ Association of Alberta
REFRESH-INTERVAL;VALUE=DURATION:PT1H
X-Robots-Tag:noindex
X-PUBLISHED-TTL:PT1H
BEGIN:VTIMEZONE
TZID:America/Edmonton
BEGIN:DAYLIGHT
TZOFFSETFROM:-0700
TZOFFSETTO:-0600
TZNAME:MDT
DTSTART:20230312T090000
END:DAYLIGHT
BEGIN:STANDARD
TZOFFSETFROM:-0600
TZOFFSETTO:-0700
TZNAME:MST
DTSTART:20231105T080000
END:STANDARD
BEGIN:DAYLIGHT
TZOFFSETFROM:-0700
TZOFFSETTO:-0600
TZNAME:MDT
DTSTART:20240310T090000
END:DAYLIGHT
BEGIN:STANDARD
TZOFFSETFROM:-0600
TZOFFSETTO:-0700
TZNAME:MST
DTSTART:20241103T080000
END:STANDARD
BEGIN:DAYLIGHT
TZOFFSETFROM:-0700
TZOFFSETTO:-0600
TZNAME:MDT
DTSTART:20250309T090000
END:DAYLIGHT
BEGIN:STANDARD
TZOFFSETFROM:-0600
TZOFFSETTO:-0700
TZNAME:MST
DTSTART:20251102T080000
END:STANDARD
END:VTIMEZONE
BEGIN:VEVENT
DTSTART;TZID=America/Edmonton:20240129T120000
DTEND;TZID=America/Edmonton:20240129T133000
DTSTAMP:20260424T101214
CREATED:20240109T171439Z
LAST-MODIFIED:20240619T212113Z
UID:47756-1706529600-1706535000@paadev.pderaswebsites.com
SUMMARY:PAA Ethics Round Table - Transference and Countertransference w/ Linda Forde
DESCRIPTION:About:				\n				\n				\n						\n									The PAA Ethics Round Tables (PERT)\, is a peer-support program to enhance ethical professional practice and decision making. Seats are limited to 20\, and only the first 20 applicants with valid participation agreements will receive a seat. This program is not intended to provide clinical supervision nor to offer an expert opinion or detailed consultation on one specific case. This program is not personalized professional guidance such as that offered by the PAA’s Professional Guidance program. These sessions will not be recorded\, and minutes or notes will not be taken.   								\n				\n				\n						\n					\n			\n						\n						\n					Facilitator:				\n				\n				\n						\n					Linda Forde				\n				\n					\n		\n				\n			\n						\n						\n																														\n				\n					\n		\n					\n		\n				\n						\n					\n			\n						\n						\n									I began my introduction to psychotherapy and group facilitation in 1996 after I completed my undergraduate education at the University of Toronto in Psychology with the opportunity to develop an Anger Management Group for men who were participating in the Domestic Violence Court Pilot project. I acquired my Masters of Science Degree in Marriage and Family Therapy in 2004\,\, my license for practice as a psychologist in 2011 and shortly afterward\, acquired a Certificate in Clinical Supervision of Psychology Dec 22\, 2011. I helped launch the Urban Counselling Network in the inner city at Boyle Street Community Services in 2009 and then initiated a Partnership with City University to expand the capacity for service delivery while increasing understanding for students in the field on how to provide psychotherapy to marginalized populations. In 2012\, I worked at Poundmakers Lodge for 6 months as a Clinical Supervisor and worked to expand the Psychology services available to non-treaty and non-status First Nations since at the time services were limited for this group. In January 2013\, I began my work with children and youth ages 5 -17 years and have been working with this age group since. In 2013\, I also began facilitation of a Women’s Domestic Violence group at Parkland Turning Points Society. Finally\, I began private practice at Kells Counselling in January.   								\n				\n				\n						\n					Registration:
URL:https://paadev.pderaswebsites.com/event/paa-ethics-round-table-transference-countertransference-w-linda-forde/
LOCATION:Alberta\, Canada
CATEGORIES:PERT
END:VEVENT
END:VCALENDAR