BEGIN:VCALENDAR
VERSION:2.0
PRODID:-//Psychologists’ Association of Alberta - ECPv6.15.13.1//NONSGML v1.0//EN
CALSCALE:GREGORIAN
METHOD:PUBLISH
X-WR-CALNAME:Psychologists’ Association of Alberta
X-ORIGINAL-URL:https://paadev.pderaswebsites.com
X-WR-CALDESC:Events for Psychologists’ Association of Alberta
REFRESH-INTERVAL;VALUE=DURATION:PT1H
X-Robots-Tag:noindex
X-PUBLISHED-TTL:PT1H
BEGIN:VTIMEZONE
TZID:America/Edmonton
BEGIN:DAYLIGHT
TZOFFSETFROM:-0700
TZOFFSETTO:-0600
TZNAME:MDT
DTSTART:20220313T090000
END:DAYLIGHT
BEGIN:STANDARD
TZOFFSETFROM:-0600
TZOFFSETTO:-0700
TZNAME:MST
DTSTART:20221106T080000
END:STANDARD
BEGIN:DAYLIGHT
TZOFFSETFROM:-0700
TZOFFSETTO:-0600
TZNAME:MDT
DTSTART:20230312T090000
END:DAYLIGHT
BEGIN:STANDARD
TZOFFSETFROM:-0600
TZOFFSETTO:-0700
TZNAME:MST
DTSTART:20231105T080000
END:STANDARD
BEGIN:DAYLIGHT
TZOFFSETFROM:-0700
TZOFFSETTO:-0600
TZNAME:MDT
DTSTART:20240310T090000
END:DAYLIGHT
BEGIN:STANDARD
TZOFFSETFROM:-0600
TZOFFSETTO:-0700
TZNAME:MST
DTSTART:20241103T080000
END:STANDARD
END:VTIMEZONE
BEGIN:VEVENT
DTSTART;TZID=America/Edmonton:20231115T153000
DTEND;TZID=America/Edmonton:20231115T170000
DTSTAMP:20260424T193943
CREATED:20231018T201109Z
LAST-MODIFIED:20240619T212243Z
UID:44857-1700062200-1700067600@paadev.pderaswebsites.com
SUMMARY:PAA & CAP Joint Town Hall - Red Deer
DESCRIPTION:Red Deer Town Hall				\n				\n					\n		\n					\n		\n				\n						\n					\n			\n						\n						\n									The next PAA & CAP Joint Town Hall is hosted In Red Deer on November 15th! Town hall meetings are an informal way for us to connect with you\, give you updates\, and discuss issues\, plans\, and controversies. We best represent you when we know the key issues you face in your region.
URL:https://paadev.pderaswebsites.com/event/paa-cap-joint-town-hall-red-deer/
LOCATION:Cormack Armoury\, 4402-55 Street\, Red Deer\, AB\, Canada
END:VEVENT
END:VCALENDAR