BEGIN:VCALENDAR
VERSION:2.0
PRODID:-//Psychologists’ Association of Alberta - ECPv6.15.13.1//NONSGML v1.0//EN
CALSCALE:GREGORIAN
METHOD:PUBLISH
X-WR-CALNAME:Psychologists’ Association of Alberta
X-ORIGINAL-URL:https://paadev.pderaswebsites.com
X-WR-CALDESC:Events for Psychologists’ Association of Alberta
REFRESH-INTERVAL;VALUE=DURATION:PT1H
X-Robots-Tag:noindex
X-PUBLISHED-TTL:PT1H
BEGIN:VTIMEZONE
TZID:America/Edmonton
BEGIN:DAYLIGHT
TZOFFSETFROM:-0700
TZOFFSETTO:-0600
TZNAME:MDT
DTSTART:20230312T090000
END:DAYLIGHT
BEGIN:STANDARD
TZOFFSETFROM:-0600
TZOFFSETTO:-0700
TZNAME:MST
DTSTART:20231105T080000
END:STANDARD
BEGIN:DAYLIGHT
TZOFFSETFROM:-0700
TZOFFSETTO:-0600
TZNAME:MDT
DTSTART:20240310T090000
END:DAYLIGHT
BEGIN:STANDARD
TZOFFSETFROM:-0600
TZOFFSETTO:-0700
TZNAME:MST
DTSTART:20241103T080000
END:STANDARD
BEGIN:DAYLIGHT
TZOFFSETFROM:-0700
TZOFFSETTO:-0600
TZNAME:MDT
DTSTART:20250309T090000
END:DAYLIGHT
BEGIN:STANDARD
TZOFFSETFROM:-0600
TZOFFSETTO:-0700
TZNAME:MST
DTSTART:20251102T080000
END:STANDARD
END:VTIMEZONE
BEGIN:VEVENT
DTSTART;TZID=America/Edmonton:20241122T090000
DTEND;TZID=America/Edmonton:20241122T160000
DTSTAMP:20260422T131005
CREATED:20240722T135651Z
LAST-MODIFIED:20241106T215129Z
UID:61396-1732266000-1732291200@paadev.pderaswebsites.com
SUMMARY:Indigenous Wisdoms in Practice: Land-Based Tools for Wellness - 6 CE Credits
DESCRIPTION:Abstract				\n				\n					\n		\n				\n			\n						\n						\n									While the field of psychology continues to move toward greater cultural sensitivity\, research\, education\, and practice remain grounded primarily in dominant Euro-Western approaches. Such approaches perpetuate colonial narratives and practices in assessment\, diagnosis\, conceptualization\, and treatment\, limiting clinical effectiveness with Indigenous people. This workshop draws on community-based Indigenous research and national reports\, engaging attendees in understanding how they may better serve Indigenous people from Indigenous perspectives. Participants will learn how to begin restor(y)ing colonial narratives of pathology using Indigenous counter narratives of survivance\, resilience\, resistance\, and resurgence that move Indigenous people and communities toward individual and collective wellness\, balance\, and harmony. This workshop will engage attendees in considering how they may transform their work through applying a medicine bundle framework that incorporates community-based perspectives on best practices that are based in love\, good relationships\, Indigenous knowledges\, living a good life\, responsibility\, identity\, and belonging\, and land. Land-based Indigenous approaches to psychotherapy and complex trauma work will be introduced\, including how to bring an “all my relations\,” land-based\, strength-based\, culturally responsive\, holistic\, and historically sensitive approach to therapeutic work through the application of Indigenous ways of knowing\, being\, and doing. 								\n				\n					\n		\n					\n		\n				\n						\n					\n			\n						\n						\n					Intended Audience				\n				\n					\n		\n				\n			\n						\n						\n									Professionals working in direct service provision that involves case conceptualization\, assessment\, diagnosis\, treatment planning\, and/or intervention. Professionals in leadership and administration in organizations that provide the aforementioned clinical services. 								\n				\n					\n		\n					\n		\n				\n						\n					\n			\n						\n						\n					Learning Objective				\n				\n					\n		\n				\n			\n						\n						\n									Articulate what decolonizing means in the context of psychological practiceUnderstand Indigenous counter-narratives and concepts that challenge; conventional approaches to psychopathology and disease\, and how these contribute to personal and collective wellness among Indigenous people;Implement basic land-based tools that support (re)connecting with\, (re)opening to\, and (re)engaging one’s personal and collective wisdom and medicine for healing;Move toward decolonizing and Indigenizing their practice in a good way.								\n				\n					\n		\n					\n		\n				\n						\n					\n			\n						\n						\n					Format and Schedule				\n				\n					\n		\n				\n			\n						\n						\n									9:00 – 10:30land-based check-iniskotew & crow: (re)igniting narratives of survivance in psychologydecolonizing & Indigenizing practice: braiding sweetgrass10:30 – 10:45 – break10:45 – 12:00Indigenizing case conceptualization & assessmentpersonal\, collective\, vicarious\, and intergenerational trauma/wellness12:00 – 12:30 – lunch break12:30 – 2:00land-based tools for practice: experiential exercisescollective & vicarioustransformation & relationality2:00 – 2:15 – break2:15 – 4:00next steps: engaging survivance-based practice in right relationshipquestions and discussion								\n				\n					\n		\n					\n		\n				\n						\n					\n			\n						\n						\n					Presenter				\n				\n					\n		\n				\n			\n						\n						\n					\n			\n						\n						\n																														\n				\n					\n		\n				\n			\n						\n						\n					Dr. Karlee Fellner				\n				\n					\n		\n					\n		\n				\n						\n					\n			\n						\n						\n									Dr. Karlee Fellner is a citizen of the Métis Nation of Alberta\, founder and CEO of maskihkiy wellness (www.maskihkiy.com) and is an Associate Professor in Counselling Psychology-Indigenous Education at the University of Calgary. Dr. Fellner is a prominent scholar activist who has been part of critical initiatives in the field of psychology and beyond\, including CPA and PFC’s national task force and Alberta’s (CAP and PAA’s) provincial working group on addressing the TRC in psychology; ASPPB’s Diversity\, Equity and Inclusion (EDI) Task Force; the EDI review panel for the Canada Research Chair program; and was on the coordinating team for the 2019 and 2022 National Multicultural Conference & Summit. Dr. Fellner’s areas of interest include Indigenous approaches to therapy and trauma work; Indigenous research\, curriculum and pedagogy; culturally appropriate counselling; complex trauma; and holistic and traditional approaches to wellness. Dr. Fellner upholds Indigenous community priorities in all aspects of her work\, engaging in transformative research and community development. She strives to nurture diversity in her work in hopes that students will feel empowered and supported bringing their diverse ways of knowing\, being\, and doing into their scholarship and practice. 								\n				\n					\n		\n					\n		\n					\n		\n					\n		\n				\n						\n					\n			\n						\n						\n					Cancellation and Refunds				\n				\n					\n		\n				\n			\n						\n						\n									Cancellation and refunds may be applied for by email or phone call to the PAA Membership Officer. Cancellations received fourteen (14) days prior to the Continuing Professional Development activity will receive a full refund of the registration fee\, less a $35.00 + GST processing fee. PAA reserves the right to cancel any activity\, in which case a full refund of the registration fee will be provided. 								\n				\n					\n		\n					\n		\n				\n						\n					\n			\n						\n						\n					CE Credits				\n				\n					\n		\n				\n			\n						\n						\n									The Psychologists’ Association of Alberta (PAA) is approved by the Canadian Psychological Association (CPA) to offer Continuing Education (CE) for psychologists. This workshop is offered for six (6.0) hours of CE Credit. Full attendance at the workshop is required to receive Continuing Education Credits. Partial credit will not be awarded\, and late arrivals or early departure will preclude awarding of Continuing Education Credits. PAA maintains responsibility for the program. Credits: 6.0 								\n				\n					\n		\n					\n		\n				\n						\n					\n			\n						\n						\n					Recommended Key Resources				\n				\n					\n		\n				\n			\n						\n						\n									Canadian Psychological Association & The Psychology Foundation of Canada. (2018). Psychology’s response to the Truth and Reconciliation Commission of Canada’s Report. Toronto\, ON: Author. Available at: https://cpa.ca/docs/File/Task_Forces/TRC%20Task%20Force%20Report_FINAL.pdf Duran\, E. (2019). Healing the soul wound: Trauma-informed counseling for Indigenous communities (2nd ed.). Teachers College Press: New York. Fellner\, K. D. (2019a). Iskotew & crow: Reigniting narratives of Indigenous survivance & trauma wisdom in the classroom. In S. Carr-Stewart & J. Ottmann (Eds.)\, Knowing the Past\, Facing the Future: Indigenous education in Canada (pp. 143-170). Vancouver\, BC: UBC Press. Fellner\, K. D. (2019b). Therapy as ceremony: Decolonizing & Indigenizing our practice. In N. Arthur (Ed.). Counseling in Cultural Contexts – Identity and Social Justice (pp. 181-201). New York: Springer. Turcotte\, S.\, & Schiffer\, J. J. (2014). Aboriginal Focusing-Oriented Therapy. In G. Madison (Ed.)\, Emerging practice in focusing-oriented psychotherapy: Innovative theory and applications (pp. 48-63). Philadelphia\, PA: Jessica Kingsley. Indigenous Focusing Oriented Therapy YouTube Channel: https://www.youtube.com/@indigenousfocusingoriented4099
URL:https://paadev.pderaswebsites.com/event/indigenous-wisdoms-in-practice-land-based-tools-for-wellness-6-ce-credits-3/
LOCATION:Courtyard by Marriott Edmonton West\, 10011 184th Street NW\, Edmonton\, Alberta\, T5S 0C7\, Canada
CATEGORIES:Workshop
END:VEVENT
END:VCALENDAR