BEGIN:VCALENDAR
VERSION:2.0
PRODID:-//Psychologists’ Association of Alberta - ECPv6.15.13.1//NONSGML v1.0//EN
CALSCALE:GREGORIAN
METHOD:PUBLISH
X-WR-CALNAME:Psychologists’ Association of Alberta
X-ORIGINAL-URL:https://paadev.pderaswebsites.com
X-WR-CALDESC:Events for Psychologists’ Association of Alberta
REFRESH-INTERVAL;VALUE=DURATION:PT1H
X-Robots-Tag:noindex
X-PUBLISHED-TTL:PT1H
BEGIN:VTIMEZONE
TZID:America/Edmonton
BEGIN:DAYLIGHT
TZOFFSETFROM:-0700
TZOFFSETTO:-0600
TZNAME:MDT
DTSTART:20230312T090000
END:DAYLIGHT
BEGIN:STANDARD
TZOFFSETFROM:-0600
TZOFFSETTO:-0700
TZNAME:MST
DTSTART:20231105T080000
END:STANDARD
BEGIN:DAYLIGHT
TZOFFSETFROM:-0700
TZOFFSETTO:-0600
TZNAME:MDT
DTSTART:20240310T090000
END:DAYLIGHT
BEGIN:STANDARD
TZOFFSETFROM:-0600
TZOFFSETTO:-0700
TZNAME:MST
DTSTART:20241103T080000
END:STANDARD
BEGIN:DAYLIGHT
TZOFFSETFROM:-0700
TZOFFSETTO:-0600
TZNAME:MDT
DTSTART:20250309T090000
END:DAYLIGHT
BEGIN:STANDARD
TZOFFSETFROM:-0600
TZOFFSETTO:-0700
TZNAME:MST
DTSTART:20251102T080000
END:STANDARD
END:VTIMEZONE
BEGIN:VEVENT
DTSTART;TZID=America/Edmonton:20240313T090000
DTEND;TZID=America/Edmonton:20240314T120000
DTSTAMP:20260423T221140
CREATED:20231023T142124Z
LAST-MODIFIED:20240619T211936Z
UID:44097-1710320400-1710417600@paadev.pderaswebsites.com
SUMMARY:Geropsychology Research and Practice:  Helping our Clients\, Helping Ourselves - 6 CE Credit - Virtual
DESCRIPTION:This is a TWO Part Webinar Part 1 – 13 March 2024\, 9:00 AM – 12:00 PMPart 2 – 14 March 2024\, 9:00 AM – 12:00 PM Attendance of both parts is required to receive CE credits 								\n				\n					\n		\n					\n		\n				\n						\n					\n			\n						\n						\n					Intended Audience				\n				\n					\n		\n				\n			\n						\n						\n									This workshop will have both a professional and personal emphasis. Professionally\, it is intended for those who are interested in learning more about working with older clients and their families. Personally\, it will explore participants’ own planning for future aging and negotiating age-related transitions such as retirement. 								\n				\n					\n		\n					\n		\n				\n						\n					\n			\n						\n						\n					Learning Objectives				\n				\n					\n		\n				\n			\n						\n						\n									To review what the research tells us about aging well.To learn more about case conceptualization with older adults using a model that encompasses their unique strengths\, challenges\, life experiences and contexts.To provide information on evidence-based psychological treatments for older adults and their families.To encourage participants to reflect on their own preparation for aging well\, including how best to think about and plan for transitions.								\n				\n					\n		\n					\n		\n				\n						\n					\n			\n						\n						\n					Format and Schedule				\n				\n					\n		\n				\n			\n						\n						\n									This workshop will combine didactic instruction\, case presentations\, and reflective exercises to address the following questions: What does it mean to age well and what are the implications for clinical practice?How is working with older clients different or the same? What specialized knowledge do I need?What evidence-based treatments are available for older adults and how can they be modified to meet the unique needs of older clients\, for example\, those who are physically frail or cognitively impaired?How can we help family caregivers?What types of ethical issues may be encountered when working with older adults and their family members\, including medical assistance in dying?How can we take the knowledge we have and use it to prepare for our own aging?								\n				\n					\n		\n					\n		\n				\n						\n					\n			\n						\n						\n					Presenter				\n				\n					\n		\n				\n			\n						\n						\n					\n			\n						\n						\n																														\n				\n					\n		\n				\n			\n						\n						\n					Dr. Candace Konnert 				\n				\n					\n		\n					\n		\n				\n						\n					\n			\n							\n		\n				\n			\n						\n						\n									Candace Konnert\, Ph.D.\, R. Psych.\, is a Professor Emerita of Psychology at the University of Calgary. She received her Ph.D. in Clinical Psychology (with a specialty in Aging) from the University of Southern California. Dr. Konnert has taught undergraduate and graduate courses in aging and clinical psychology and remains actively involved in the supervision of graduate students. She particularly enjoys giving presentations to community groups and professional workshops on various topics related to healthy aging. Dr. Konnert has served as the Director of Training and the Practicum/Internship Coordinator for the clinical psychology program at the University of Calgary. She is the recipient of the University of Calgary\, Department of Psychology Undergraduate Research Supervision Award (2018)\, the University of Calgary Students’ Union Excellence in Teaching Award (2016)\, and the Canadian Council of Professional Psychology Programs Excellence in Training Award (2014). Dr. Konnert is a co-author of the textbook Adult Development & Aging (2nd Canadian edition\, 2021\, John Wiley & Sons\, Inc.) and has published widely on topics such as the prevention of depression in nursing home residents\, family-staff conflict in long-term care\, body satisfaction among middle-aged and older women\, barriers to accessing mental health care\, and\, most recently\, planning for future aging. Her research has been funded by the Social Sciences and Humanities Research Council and the Canadian Institutes of Health Research. Her passions in life include hiking\, skiing\, fly-fishing\, and travelling the world. 								\n				\n					\n		\n					\n		\n					\n		\n					\n		\n				\n						\n					\n			\n						\n						\n					Cancellation and Refunds				\n				\n					\n		\n				\n			\n						\n						\n									Cancellation and refunds may be applied for by email or phone call to the PAA Continuing Professional Development Officer.  Cancellations received fourteen (14) days prior to the Continuing Professional Development activity will receive a full refund of the registration fee\, less a $35.00 + GST processing fee. PAA reserves the right to cancel any activity\, in which case a full refund of the registration fee will be provided. 								\n				\n					\n		\n					\n		\n				\n						\n					\n			\n						\n						\n					Continuing Education Credits 				\n				\n					\n		\n				\n			\n						\n						\n									The Psychologists’ Association of Alberta (PAA) is approved by the Canadian Psychological Association (CPA) to offer Continuing Education (CE) for psychologists. This workshop is offered for six (6.0) hours of CE Credit. Full attendance at the workshop is required to receive Continuing Education Credits. Partial credit will not be awarded\, and late arrivals or early departure will preclude awarding of Continuing Education Credits. PAA maintains responsibility for the program.
URL:https://paadev.pderaswebsites.com/event/geropsychology-research-and-practice-helping-our-clients-helping-ourselves-6-ce-credit-4/
LOCATION:Online
CATEGORIES:Workshop
END:VEVENT
END:VCALENDAR