BEGIN:VCALENDAR
VERSION:2.0
PRODID:-//Psychologists’ Association of Alberta - ECPv6.15.13.1//NONSGML v1.0//EN
CALSCALE:GREGORIAN
METHOD:PUBLISH
X-WR-CALNAME:Psychologists’ Association of Alberta
X-ORIGINAL-URL:https://paadev.pderaswebsites.com
X-WR-CALDESC:Events for Psychologists’ Association of Alberta
REFRESH-INTERVAL;VALUE=DURATION:PT1H
X-Robots-Tag:noindex
X-PUBLISHED-TTL:PT1H
BEGIN:VTIMEZONE
TZID:America/Edmonton
BEGIN:DAYLIGHT
TZOFFSETFROM:-0700
TZOFFSETTO:-0600
TZNAME:MDT
DTSTART:20230312T090000
END:DAYLIGHT
BEGIN:STANDARD
TZOFFSETFROM:-0600
TZOFFSETTO:-0700
TZNAME:MST
DTSTART:20231105T080000
END:STANDARD
BEGIN:DAYLIGHT
TZOFFSETFROM:-0700
TZOFFSETTO:-0600
TZNAME:MDT
DTSTART:20240310T090000
END:DAYLIGHT
BEGIN:STANDARD
TZOFFSETFROM:-0600
TZOFFSETTO:-0700
TZNAME:MST
DTSTART:20241103T080000
END:STANDARD
BEGIN:DAYLIGHT
TZOFFSETFROM:-0700
TZOFFSETTO:-0600
TZNAME:MDT
DTSTART:20250309T090000
END:DAYLIGHT
BEGIN:STANDARD
TZOFFSETFROM:-0600
TZOFFSETTO:-0700
TZNAME:MST
DTSTART:20251102T080000
END:STANDARD
END:VTIMEZONE
BEGIN:VEVENT
DTSTART;TZID=America/Edmonton:20240227T090000
DTEND;TZID=America/Edmonton:20240305T120000
DTSTAMP:20260424T025352
CREATED:20231020T194833Z
LAST-MODIFIED:20240619T212025Z
UID:45029-1709024400-1709640000@paadev.pderaswebsites.com
SUMMARY:General Assessments for Counselling Psychologists-Virtual-6 CE Credits-Virtual-2 Parts
DESCRIPTION:This is a two-part webinar.  PART 1: 27 Feb 9:00 AM to 12:00 PMPART 2: 5 March 9:00 AM to 12:00 PMAttendance of both parts is required to receive CE Credits  								\n				\n					\n		\n					\n		\n				\n						\n					\n			\n						\n						\n					Abstract				\n				\n					\n		\n					\n		\n				\n						\n					\n			\n						\n						\n									Assessment and counselling are integral components of the psychotherapy process. Assessment occurs in the initial stages and is often ongoing to inform the psychotherapy process. Topics for this workshop will include mental status examinations\, psychometrics\, screening measures\, and limitations of self-report. By the end of the workshop\, participants will have a broader understanding of general assessments for psychotherapists. 								\n				\n					\n		\n					\n		\n				\n						\n					\n			\n						\n						\n					Intended Audience				\n				\n					\n		\n					\n		\n				\n						\n					\n			\n						\n						\n									This workshop would be suitable for applied graduate students or practicing psychotherapists. PAA’s position statement on psychotherapy is that mental health counselling and psychotherapy should only be provided by regulated health professionals with at least a master’s degree in psychology\, counselling\, psychotherapy\, social work (in clinical practice)\, or by a psychiatrist. 								\n				\n					\n		\n					\n		\n				\n						\n					\n			\n						\n						\n					Learning Objectives				\n				\n					\n		\n					\n		\n				\n						\n					\n			\n						\n						\n									To learn the components of general mental health assessments.To understand how principles of psychological assessment may be incorporated into existing psychotherapy practice.								\n				\n					\n		\n					\n		\n				\n						\n					\n			\n						\n						\n					Presenter				\n				\n					\n		\n					\n		\n				\n						\n					\n			\n						\n						\n																														\n				\n					\n		\n				\n			\n						\n						\n					Jamie Dyce\, Ph.D.				\n				\n				\n						\n									Jamie A. Dyce\, PhD is an Associate Professor of Psychology at Concordia University of Edmonton and has been employed there since 1997. In his capacity as professor\, he has taught hundreds of courses at the undergraduate and graduate levels. His areas of specialty are personality disorders\, psychometric theory and personality assessment. Dr. Dyce has been a registered psychologist in the province of Alberta since 1998. His area of specialty is general psychological assessment.								\n				\n					\n		\n					\n		\n				\n						\n					\n			\n						\n						\n					Format and Schedule				\n				\n				\n						\n									The format for the presentation will largely be a lecture. Topics for the program will include: History of Psychological AssessmentCollecting Data and ErrorsThe Interview Mental Status ExaminationsPsychometricsScreening MeasuresLimitations of Self-reportMilitary Psychological Reports								\n				\n					\n		\n					\n		\n				\n						\n					\n			\n						\n						\n					Cancellation and Refunds				\n				\n				\n						\n									Cancellation and refunds may be applied for by email or phone call to the PAA. Cancellations received fourteen (14) days prior to the Continuing Professional Development activity will receive a full refund of the registration fee\, less a $35.00 + GST processing fee. PAA reserves the right to cancel any activity\, in which case a full refund of the registration fee will be provided. 								\n				\n					\n		\n					\n		\n				\n						\n					\n			\n						\n						\n					Continuing Education Credits 				\n				\n				\n						\n									The Psychologists’ Association of Alberta (PAA) is approved by the Canadian Psychological Association (CPA) to offer Continuing Education (CE) for psychologists. This workshop is offered for six (6.0) hours of CE Credit. Full attendance at the workshop is required to receive Continuing Education Credits. Partial credit will not be awarded\, and late arrivals or early departure will preclude awarding of Continuing Education Credits. PAA maintains responsibility for the program.
URL:https://paadev.pderaswebsites.com/event/general-assessments-for-counselling-psychologists-virtual-6-ce-credits-2-parts/
LOCATION:Online
CATEGORIES:Workshop
END:VEVENT
END:VCALENDAR