BEGIN:VCALENDAR
VERSION:2.0
PRODID:-//Psychologists’ Association of Alberta - ECPv6.15.13.1//NONSGML v1.0//EN
CALSCALE:GREGORIAN
METHOD:PUBLISH
X-WR-CALNAME:Psychologists’ Association of Alberta
X-ORIGINAL-URL:https://paadev.pderaswebsites.com
X-WR-CALDESC:Events for Psychologists’ Association of Alberta
REFRESH-INTERVAL;VALUE=DURATION:PT1H
X-Robots-Tag:noindex
X-PUBLISHED-TTL:PT1H
BEGIN:VTIMEZONE
TZID:America/Edmonton
BEGIN:DAYLIGHT
TZOFFSETFROM:-0700
TZOFFSETTO:-0600
TZNAME:MDT
DTSTART:20230312T090000
END:DAYLIGHT
BEGIN:STANDARD
TZOFFSETFROM:-0600
TZOFFSETTO:-0700
TZNAME:MST
DTSTART:20231105T080000
END:STANDARD
BEGIN:DAYLIGHT
TZOFFSETFROM:-0700
TZOFFSETTO:-0600
TZNAME:MDT
DTSTART:20240310T090000
END:DAYLIGHT
BEGIN:STANDARD
TZOFFSETFROM:-0600
TZOFFSETTO:-0700
TZNAME:MST
DTSTART:20241103T080000
END:STANDARD
BEGIN:DAYLIGHT
TZOFFSETFROM:-0700
TZOFFSETTO:-0600
TZNAME:MDT
DTSTART:20250309T090000
END:DAYLIGHT
BEGIN:STANDARD
TZOFFSETFROM:-0600
TZOFFSETTO:-0700
TZNAME:MST
DTSTART:20251102T080000
END:STANDARD
END:VTIMEZONE
BEGIN:VEVENT
DTSTART;TZID=America/Edmonton:20240601T090000
DTEND;TZID=America/Edmonton:20240601T160000
DTSTAMP:20260423T070903
CREATED:20240508T134909Z
LAST-MODIFIED:20240611T214151Z
UID:58384-1717232400-1717257600@paadev.pderaswebsites.com
SUMMARY:Creating a Culturally Safe Space in Clinical Practice and Supervision
DESCRIPTION:An Introduction to Cultural Competence\, Cultural Humility\, and Culturally-Informed Care and Mentorship								\n				\n					\n		\n					\n		\n				\n						\n					\n			\n						\n						\n					Abstract				\n				\n					\n		\n				\n			\n						\n						\n									This workshop will introduce participants to the foundational knowledge and concepts related to culture\, diversity\, and clinical practice and supervision. Specifically\, the concepts of cultural competence and cultural humility\, as the two complementing frameworks for promoting clinicians’ multicultural development and identity\, will be discussed. This workshop approaches cultural training from an experiential\, personal-growth\, and professional-development perspective and a social justice stance. Using mental health counselling and therapy intervention as an example of creating culturally safe spaces for clients and trainees\, this workshop will guide participants to reflect and think through critical cultural diversity issues of themselves as well as of others. Practical and evidence-based examples will be used to illustrate the content and to help link participants’ learning to their experiences.     								\n				\n					\n		\n					\n		\n				\n						\n					\n			\n						\n						\n					Intended Audience				\n				\n					\n		\n				\n			\n						\n						\n									Psychologists who are interested in and eligible to become supervisors. 								\n				\n					\n		\n					\n		\n				\n						\n					\n			\n						\n						\n					Learning Objectives				\n				\n					\n		\n				\n			\n						\n						\n									Participants in this workshop will be introduced to the following topics\, and engage in guided reflection on these subject matters:     Intersection of culture and diversity issues and clinical/health care and supervision trainingDefinition and Illustration of multicultural competence and cultural humility in practice Issues on clinicians’ intersectionality of identities and implicit biasesStrategies to address cultural diversity issues in supervision with supervisees Strategies to enhance individual-level and institutional/organizational-level changes to promote racial equity and cultural safetyPaths forward for clinicians’ continued cultural learning\, education\, and development								\n				\n					\n		\n					\n		\n				\n						\n					\n			\n						\n						\n					Presenter				\n				\n					\n		\n				\n			\n						\n						\n					\n			\n						\n						\n																														\n				\n					\n		\n				\n			\n						\n						\n					Dr. Ben C. H. Kuo\, Ph.D.				\n				\n					\n		\n					\n		\n				\n						\n					\n			\n							\n		\n				\n			\n						\n						\n									Dr. Kuo is a Full Professor and the current Director of Clinical Training for the Canadian Psychological Association (CPA)-Accredited Clinical Psychology Program at the University of Windsor\, and a registered and practicing psychologist in Ontario. His research focuses on the intersection between culture and psychology\, particularly in the areas of multicultural counselling and training and cross-cultural psychology. Dr. Kuo is an experienced and active clinical supervisor who teaches and supervises clinical psychology graduate students in multicultural psychotherapy courses and practicum with diverse clients\, including refugees and immigrants. As a clinician\, Dr. Kuo has worked and treated international students\, immigrants\, refugees\, racial/ethnic minorities\, and non-minority individuals in the U.S.\, Canada\, and Asia. Dr. Kuo works very closely with various community and health agencies/networks and is involved in policy initiatives\, provincially and nationally in Canada. Dr. Kuo has traveled\, lectured\, provided training\, and consulted internationally\, as a distinguished visiting professor\, in Taiwan\, China\, Thailand\, New Zealand\, Russia\, Brazil\, Poland\, and the U.K. In 2018 Dr. Kuo served as the guest editor for the special issue of Psynopsis – the official communiqué of the CPA – on “Refugee Mental Health.” This year (2024)\, Dr. Kuo once again collaborated with Dr. Eleanor Gittens\, the current President of the CPA\, as co-editors for another special issue of Psynopsis on “People\, Culture and Psychology: Diverse Voices from the Field.”  								\n				\n					\n		\n					\n		\n					\n		\n					\n		\n				\n						\n					\n			\n						\n						\n					Cancellation and Refunds				\n				\n					\n		\n				\n			\n						\n						\n									Cancellation and refunds may be applied for by email or phone call to the PAA CPDO. Cancellations received fourteen (14) days prior to the Continuing Professional Development activity will receive a full refund of the registration fee\, less a $35.00 + GST processing fee. PAA reserves the right to cancel any activity\, in which case a full refund of the registration fee will be provided. 								\n				\n					\n		\n					\n		\n				\n						\n					\n			\n						\n						\n					Continuing Education Credits 				\n				\n					\n		\n				\n			\n						\n						\n									The Psychologists’ Association of Alberta (PAA) is approved by the Canadian Psychological Association (CPA) to offer Continuing Education (CE) for psychologists. This workshop is offered for six (6.0) hours of CE Credit. Full attendance at the workshop is required to receive Continuing Education Credits. Partial credit will not be awarded\, and late arrivals or early departure will preclude awarding of Continuing Education Credits. PAA maintains responsibility for the program.
URL:https://paadev.pderaswebsites.com/event/creating-a-culturally-safe-space-in-clinical-practice-and-supervision-06012024-cs/
LOCATION:Faculty of Education South Building- Room 122 University of Alberta
END:VEVENT
END:VCALENDAR