BEGIN:VCALENDAR
VERSION:2.0
PRODID:-//Psychologists’ Association of Alberta - ECPv6.15.13.1//NONSGML v1.0//EN
CALSCALE:GREGORIAN
METHOD:PUBLISH
X-WR-CALNAME:Psychologists’ Association of Alberta
X-ORIGINAL-URL:https://paadev.pderaswebsites.com
X-WR-CALDESC:Events for Psychologists’ Association of Alberta
REFRESH-INTERVAL;VALUE=DURATION:PT1H
X-Robots-Tag:noindex
X-PUBLISHED-TTL:PT1H
BEGIN:VTIMEZONE
TZID:America/Edmonton
BEGIN:DAYLIGHT
TZOFFSETFROM:-0700
TZOFFSETTO:-0600
TZNAME:MDT
DTSTART:20230312T090000
END:DAYLIGHT
BEGIN:STANDARD
TZOFFSETFROM:-0600
TZOFFSETTO:-0700
TZNAME:MST
DTSTART:20231105T080000
END:STANDARD
BEGIN:DAYLIGHT
TZOFFSETFROM:-0700
TZOFFSETTO:-0600
TZNAME:MDT
DTSTART:20240310T090000
END:DAYLIGHT
BEGIN:STANDARD
TZOFFSETFROM:-0600
TZOFFSETTO:-0700
TZNAME:MST
DTSTART:20241103T080000
END:STANDARD
BEGIN:DAYLIGHT
TZOFFSETFROM:-0700
TZOFFSETTO:-0600
TZNAME:MDT
DTSTART:20250309T090000
END:DAYLIGHT
BEGIN:STANDARD
TZOFFSETFROM:-0600
TZOFFSETTO:-0700
TZNAME:MST
DTSTART:20251102T080000
END:STANDARD
END:VTIMEZONE
BEGIN:VEVENT
DTSTART;TZID=America/Edmonton:20240625T170000
DTEND;TZID=America/Edmonton:20240625T180000
DTSTAMP:20260423T052744
CREATED:20240516T140607Z
LAST-MODIFIED:20240611T213942Z
UID:58721-1719334800-1719338400@paadev.pderaswebsites.com
SUMMARY:Listening to Members Session: Counselling Therapists
DESCRIPTION:PAA Members Times of change are times of opportunity\, and we need your help to ensure effective leadership. 01 March 2024 the Ministry of Addiction and Mental Health announced that the College of Alberta Psychologists will regulate counselling therapists. Moving forward with regulation of Alberta counsellors | alberta.ca Given overlapping scopes of practice\, this will be an opportunity to enhance safety through clarity of titles and scopes of practice beyond psychologists. Those who will likely qualify as Counselling Therapists regulated by the College of Alberta Psychologists are currently eligible for PAA Professional Affiliate Membership (PAM). In the spirit of health leadership and our commitment to ensuring access to quality support for Albertans\, and given the considerable uncertainty for those professionals at this time PAA is waiving the membership dues for professional affiliates (until 31 March 2025). We appreciate your help in ensuring that respected professionals with at least a master’s degree in social work\, psychology\, counselling\, or psychotherapy who are not registered psychologists are aware of this support while they clarify their professional home.   Most importantly\, we need to take a leadership role in navigating this change to the mental health landscape in Alberta and we need your help and direction as members!   								\n				\n					\n		\n					\n		\n				\n						\n					\n			\n						\n						\n									These won’t be townhalls as little is known about the future beyond the 01 March 2024 announcement\, but this is your PAA Board’s opportunity to learn from you\, our members. 								\n				\n					\n		\n					\n		\n				\n						\n					\n			\n						\n						\n																														\n				\n					\n		\n				\n			\n						\n						\n									What are your hopes?What are your fears?What are two or three major opportunities that you foresee for PAA?What are two or three major risks that you foresee for PAA?What do you see as solutions to most benefit psychologists?What information do you want?								\n				\n					\n		\n					\n		\n				\n						\n					\n			\n						\n						\n							\n			\n						\n		\n						\n				\n					\n		\n					\n		\n				\n						\n					\n			\n						\n						\n									We need to hear from you. Please join us at one of these open discussion times: Tuesday 25 June 5:00 – 6:00Tuesday 02 July 5:00 – 6:00Thursday 01 August 12:00-1:00
URL:https://paadev.pderaswebsites.com/event/counselling-therapist-member-information-sharing-2/
LOCATION:Online
END:VEVENT
END:VCALENDAR