BEGIN:VCALENDAR
VERSION:2.0
PRODID:-//Psychologists’ Association of Alberta - ECPv6.15.13.1//NONSGML v1.0//EN
CALSCALE:GREGORIAN
METHOD:PUBLISH
X-WR-CALNAME:Psychologists’ Association of Alberta
X-ORIGINAL-URL:https://paadev.pderaswebsites.com
X-WR-CALDESC:Events for Psychologists’ Association of Alberta
REFRESH-INTERVAL;VALUE=DURATION:PT1H
X-Robots-Tag:noindex
X-PUBLISHED-TTL:PT1H
BEGIN:VTIMEZONE
TZID:America/Edmonton
BEGIN:DAYLIGHT
TZOFFSETFROM:-0700
TZOFFSETTO:-0600
TZNAME:MDT
DTSTART:20220313T090000
END:DAYLIGHT
BEGIN:STANDARD
TZOFFSETFROM:-0600
TZOFFSETTO:-0700
TZNAME:MST
DTSTART:20221106T080000
END:STANDARD
BEGIN:DAYLIGHT
TZOFFSETFROM:-0700
TZOFFSETTO:-0600
TZNAME:MDT
DTSTART:20230312T090000
END:DAYLIGHT
BEGIN:STANDARD
TZOFFSETFROM:-0600
TZOFFSETTO:-0700
TZNAME:MST
DTSTART:20231105T080000
END:STANDARD
BEGIN:DAYLIGHT
TZOFFSETFROM:-0700
TZOFFSETTO:-0600
TZNAME:MDT
DTSTART:20240310T090000
END:DAYLIGHT
BEGIN:STANDARD
TZOFFSETFROM:-0600
TZOFFSETTO:-0700
TZNAME:MST
DTSTART:20241103T080000
END:STANDARD
END:VTIMEZONE
BEGIN:VEVENT
DTSTART;TZID=America/Edmonton:20230627T130000
DTEND;TZID=America/Edmonton:20230627T160000
DTSTAMP:20260425T215117
CREATED:20230417T201749Z
LAST-MODIFIED:20240619T212809Z
UID:35658-1687870800-1687881600@paadev.pderaswebsites.com
SUMMARY:Pain Psychology: An Introduction to Chronic Pain Management Approaches - 6 CE Credit - VIRTUAL
DESCRIPTION:This is a TWO Part Webinar Part 1: 27 June\, 1-4 PMPart 2: 28 June\, 1-4 PM Participants are expected to attend both parts to receive CE-Credits 								\n				\n					\n		\n					\n		\n				\n						\n					\n			\n						\n						\n					Abstract				\n				\n					\n		\n				\n			\n						\n						\n									The widespread prevalence of chronic pain is a major challenge for healthcare systems\, clinicians\, and patients. There is a significant need for evidence-based biopsychosocial clinical intervention for people living with chronic pain. This workshop will offer an introduction to the role of psychology in the management of chronic pain and prepare attendees to integrate Cognitive Behavioral Therapy for Chronic Pain (CBT-CP) into their clinical practice. In addition\, a brief introduction to contemporary approaches within the field of pain psychology\, including Acceptance and Commitment Therapy and Pain Reprocessing Therapy will be provided. 								\n				\n					\n		\n					\n		\n				\n						\n					\n			\n						\n						\n					Intended Audience				\n				\n					\n		\n				\n			\n						\n						\n									Practitioners interested in developing or enhancing skills in the treatment of chronic pain. 								\n				\n					\n		\n					\n		\n				\n						\n					\n			\n						\n						\n					Learning Objectives				\n				\n					\n		\n				\n			\n						\n						\n									Attendees will understand how pain is processed in the brain and appreciate the modulating role of psychosocial factors in the experience of pain.Attendees will acquire the knowledge and skills necessary to begin implementing Cognitive Behavioral Therapy for Chronic Pain in their own practice.Attendees will become cognizant of additional approaches (e.g. Acceptance & Commitment Therapy\, Pain Reprocessing Therapy) within the field of pain psychology.								\n				\n					\n		\n					\n		\n				\n						\n					\n			\n						\n						\n					Presenter				\n				\n					\n		\n				\n			\n						\n						\n					\n			\n						\n						\n																														\n				\n					\n		\n				\n			\n						\n						\n					Emily Moore\, Ph.D.\, R.Psych				\n				\n					\n		\n					\n		\n				\n						\n					\n			\n							\n		\n				\n			\n						\n						\n									Dr. Emily Moore is an Edmonton-based registered Psychologist. She obtained her PhD in Clinical Psychology at McGill University and subsequently completed specialized postdoctoral training in pain management at the Stanford School of Medicine in Palo Alto\, California. Dr. Moore currently runs her own private practice where she focuses on serving individuals who are struggling to navigate co-occurring physical and mental health challenges which interfere with their ability to function optimally and find meaning in their lives. Dr. Moore has considerable expertise in the treatment of chronic pain via multiple modalities\, including\, Cognitive Behavioral Therapy for Chronic Pain (CBT-CP)\, Acceptance and Commitment Therapy (ACT)\, and Pain Reprocessing Therapy (PRT). She successfully integrates these solution-focused\, evidence-based treatments to promote insight\, enhance coping and improve overall well-being. Dr. Moore is passionate about helping individuals navigate pain\, harness motivation\, find fulfillment\, and flourish in their lives. Find out more about Dr. Moore at dremilymoore.ca.   								\n				\n					\n		\n					\n		\n					\n		\n					\n		\n				\n						\n					\n			\n						\n						\n					Cancellation and Refunds				\n				\n					\n		\n				\n			\n						\n						\n									Cancellation and refunds may be applied for by email or phone call to the PAA Continuing Professional Development Officer.  Cancellations received fourteen (14) days prior to the Continuing Professional Development activity will receive a full refund of the registration fee\, less a $35.00 + GST processing fee. PAA reserves the right to cancel any activity\, in which case a full refund of the registration fee will be provided. 								\n				\n					\n		\n					\n		\n				\n						\n					\n			\n						\n						\n					Continuing Education Credits 				\n				\n					\n		\n				\n			\n						\n						\n									The Psychologists’ Association of Alberta (PAA) is approved by the Canadian Psychological Association (CPA) to offer Continuing Education (CE) for psychologists. This workshop is offered for six (6.0) hours of CE Credit. Full attendance at the workshop is required to receive Continuing Education Credits. Partial credit will not be awarded\, and late arrivals or early departure will preclude awarding of Continuing Education Credits. PAA maintains responsibility for the program.
URL:https://paadev.pderaswebsites.com/event/chronic-pain-management-approaches/
LOCATION:Alberta\, Canada
CATEGORIES:Workshop
END:VEVENT
END:VCALENDAR