BEGIN:VCALENDAR
VERSION:2.0
PRODID:-//Psychologists’ Association of Alberta - ECPv6.15.13.1//NONSGML v1.0//EN
CALSCALE:GREGORIAN
METHOD:PUBLISH
X-WR-CALNAME:Psychologists’ Association of Alberta
X-ORIGINAL-URL:https://paadev.pderaswebsites.com
X-WR-CALDESC:Events for Psychologists’ Association of Alberta
REFRESH-INTERVAL;VALUE=DURATION:PT1H
X-Robots-Tag:noindex
X-PUBLISHED-TTL:PT1H
BEGIN:VTIMEZONE
TZID:America/Edmonton
BEGIN:DAYLIGHT
TZOFFSETFROM:-0700
TZOFFSETTO:-0600
TZNAME:MDT
DTSTART:20230312T090000
END:DAYLIGHT
BEGIN:STANDARD
TZOFFSETFROM:-0600
TZOFFSETTO:-0700
TZNAME:MST
DTSTART:20231105T080000
END:STANDARD
BEGIN:DAYLIGHT
TZOFFSETFROM:-0700
TZOFFSETTO:-0600
TZNAME:MDT
DTSTART:20240310T090000
END:DAYLIGHT
BEGIN:STANDARD
TZOFFSETFROM:-0600
TZOFFSETTO:-0700
TZNAME:MST
DTSTART:20241103T080000
END:STANDARD
BEGIN:DAYLIGHT
TZOFFSETFROM:-0700
TZOFFSETTO:-0600
TZNAME:MDT
DTSTART:20250309T090000
END:DAYLIGHT
BEGIN:STANDARD
TZOFFSETFROM:-0600
TZOFFSETTO:-0700
TZNAME:MST
DTSTART:20251102T080000
END:STANDARD
END:VTIMEZONE
BEGIN:VEVENT
DTSTART;TZID=America/Edmonton:20240913T090000
DTEND;TZID=America/Edmonton:20240913T160000
DTSTAMP:20260422T212226
CREATED:20240429T144643Z
LAST-MODIFIED:20240903T170620Z
UID:58040-1726218000-1726243200@paadev.pderaswebsites.com
SUMMARY:Best Practices to Prevent Ethical Pitfalls - 6-CE Credits
DESCRIPTION:Abstract				\n				\n					\n		\n					\n		\n				\n						\n					\n			\n						\n						\n									Ethical decision-making processes can be complex at times.  The interactive workshop focuses on 3 strategies  when making decisions about the course of action when one faces dilemmas- Principle Based Ethics\, Incorporating of Personal Ethics into Professional roles\, and Categorizing the Issues.  The workshop also will educate the participants about different  type of cognitive biases  and how they affect the Ethical Decision-making process. Participants will learn why psychologists violate ethical boundaries. There will be an opportunity for participants to practice on vignettes which are created from requests the PAA’s Professional Guidance department receives from members for consultation. The workshop will also involve a brief presentation by Gowlings on the legal aspects of Ethical Practice. 								\n				\n					\n		\n					\n		\n				\n						\n					\n			\n						\n						\n					Intended Audience				\n				\n					\n		\n					\n		\n				\n						\n					\n			\n						\n						\n									Registered Psychologists and Registered Provisional Psychologists. 								\n				\n					\n		\n					\n		\n				\n						\n					\n			\n						\n						\n					Learning Objectives				\n				\n					\n		\n					\n		\n				\n						\n					\n			\n						\n						\n									Participants will be able to: List four foundational Principles for Ethical Decision-Making.Define the Acculturation Model and differentiate & integrate between Ethical\, Clinical\, and Legal dilemmas.Identify Cognitive Biases and Emotional factors that can unfavorably affect Ethical Decision-Making.Learn how to foster conditions that allow us to do good to patients but also be mindful that the same conditions can lead to harm.Apply Ethical Decision-Making skills on Vignettes.Learn to assess and manage risks in your practice from a Legal perspective (presentation by Gowlings)								\n				\n					\n		\n					\n		\n				\n						\n					\n			\n						\n						\n					Presenter				\n				\n					\n		\n					\n		\n				\n						\n					\n			\n						\n						\n																														\n				\n					\n		\n				\n			\n						\n						\n					Dr. Harpreet Gill				\n				\n				\n						\n									Harpreet Gill\, Ph.D. R. Psych. is PAA’s Director of Professional Guidance. She is a Registered Psychologist in Alberta with over 16 years of counseling experience with adults and couples. She has worked in the Employee Family Assistance Program (EFAP) and private and non-profit settings. Her areas of expertise include depression\, anxiety\, PTSD\, relationship issues\, grief\, addictions (including assessments)\, trauma\, self-esteem issues\, and immigrants’ mental health concerns. 								\n				\n					\n		\n					\n		\n				\n						\n					\n			\n						\n						\n					Cancellation and Refunds				\n				\n				\n						\n									Cancellation and refunds may be applied for by email or phone call to the PAA. Cancellations received fourteen (14) days prior to the Continuing Professional Development activity will receive a full refund of the registration fee\, less a $35.00 + GST processing fee. PAA reserves the right to cancel any activity\, in which case a full refund of the registration fee will be provided. 								\n				\n					\n		\n					\n		\n				\n						\n					\n			\n						\n						\n					Continuing Education Credits 				\n				\n				\n						\n									The Psychologists’ Association of Alberta (PAA) is approved by the Canadian Psychological Association (CPA) to offer Continuing Education (CE) for psychologists. This workshop is offered for six (6.0) hours of CE Credit. Full attendance at the workshop is required to receive Continuing Education Credits. Partial credit will not be awarded\, and late arrivals or early departure will preclude awarding of Continuing Education Credits. PAA maintains responsibility for the program.
URL:https://paadev.pderaswebsites.com/event/best-practices-to-prevent-ethical-pitfalls-6-ce-credits-2/
LOCATION:Deerfoot Inn – 11500 35 St SE #1000\, Calgary\, AB T2Z 3W4\, 11500 35 St SE #1000\,\, Calgary\, AB\, T2Z 3W4
CATEGORIES:Workshop
END:VEVENT
END:VCALENDAR