BEGIN:VCALENDAR
VERSION:2.0
PRODID:-//Psychologists’ Association of Alberta - ECPv6.15.13.1//NONSGML v1.0//EN
CALSCALE:GREGORIAN
METHOD:PUBLISH
X-WR-CALNAME:Psychologists’ Association of Alberta
X-ORIGINAL-URL:https://paadev.pderaswebsites.com
X-WR-CALDESC:Events for Psychologists’ Association of Alberta
REFRESH-INTERVAL;VALUE=DURATION:PT1H
X-Robots-Tag:noindex
X-PUBLISHED-TTL:PT1H
BEGIN:VTIMEZONE
TZID:America/Edmonton
BEGIN:DAYLIGHT
TZOFFSETFROM:-0700
TZOFFSETTO:-0600
TZNAME:MDT
DTSTART:20230312T090000
END:DAYLIGHT
BEGIN:STANDARD
TZOFFSETFROM:-0600
TZOFFSETTO:-0700
TZNAME:MST
DTSTART:20231105T080000
END:STANDARD
BEGIN:DAYLIGHT
TZOFFSETFROM:-0700
TZOFFSETTO:-0600
TZNAME:MDT
DTSTART:20240310T090000
END:DAYLIGHT
BEGIN:STANDARD
TZOFFSETFROM:-0600
TZOFFSETTO:-0700
TZNAME:MST
DTSTART:20241103T080000
END:STANDARD
BEGIN:DAYLIGHT
TZOFFSETFROM:-0700
TZOFFSETTO:-0600
TZNAME:MDT
DTSTART:20250309T090000
END:DAYLIGHT
BEGIN:STANDARD
TZOFFSETFROM:-0600
TZOFFSETTO:-0700
TZNAME:MST
DTSTART:20251102T080000
END:STANDARD
END:VTIMEZONE
BEGIN:VEVENT
DTSTART;TZID=America/Edmonton:20240417T150000
DTEND;TZID=America/Edmonton:20240417T163000
DTSTAMP:20260423T143203
CREATED:20240220T225449Z
LAST-MODIFIED:20240619T211822Z
UID:50208-1713366000-1713371400@paadev.pderaswebsites.com
SUMMARY:Assessment of Children: Cognitive Foundations and Applications - Seventh Edition - 1.5 CE-Credit - Virtual
DESCRIPTION:Abstract				\n				\n					\n		\n					\n		\n				\n						\n					\n			\n						\n						\n									This workshop will cover Assessment of Children: Cognitive Foundations and Applications (Seventh Edition) BY Jerome M. Sattler. It will (a) provide an overview of the 20 chapters in the main text and the16 appendix chapters (b) discuss issues related to the construct and measurement of intelligence\, and (c) discuss how cognitive tests are useful in the assessment of children with specific learning disability\, intellectual disability\, and giftedness. Note. See the following website for complete table of contents: www.sattlerpublisher.com  								\n				\n					\n		\n					\n		\n				\n						\n					\n			\n						\n						\n					Learning Objectives				\n				\n					\n		\n					\n		\n				\n						\n					\n			\n						\n						\n									Participants will learn about the unique features of Assessment of Children\, Cognitive Foundations and Applications\, Seventh Ed.Participants will learn about recent developments in cognitive assessment.Participants will learn about the application of cognitive tests to children with special needs.								\n				\n					\n		\n					\n		\n				\n						\n					\n			\n						\n						\n									\n                    Clinical AssessmentPlease leave a question or topic request for Dr. Sattler.Do you have the 6th Edition of Assessment of Children Text Book?YesNoSend            \n            								\n				\n					\n		\n					\n		\n				\n						\n					\n			\n						\n						\n					Presenter				\n				\n					\n		\n					\n		\n				\n						\n					\n			\n						\n						\n																														\n				\n					\n		\n				\n			\n						\n						\n					Dr. Jerome M. Sattler				\n				\n				\n						\n									Jerome M. Sattler is a Diplomate in Clinical Psychology of the American Board of Professional Psychology and a Diplomate of the American Board of Professional Neuropsychology. Currently\, he is Professor Emeritus and an Adjunct Professor of Psychology at San Diego State University. In 1998 he received the Senior Scientist Award from the Division of School Psychology of the American Psychological Association. In 2003\, he received an honorary Doctor of Sciences degree from Central Missouri State University. In 2005\, he received the Gold Medal Award for Life Achievement in the Application of Psychology from the American Psychological Foundation. In 2006\, he received the Distinguished Contribution to Psychology Award from the San Diego Psychological Association and a Distinguished Visiting Professor Award from the Colorado School of Professional Psychology. In 2014\, he received a Lifetime Achievement Award from Azusa Pacific University. In 2015\, he received The 1949 Award from the Clinical Psychology Program at the University of Kansas (1949 is the year the program at KU received approval from the American Psychological Association) given to distinguished alumni for outstanding contributions to clinical psychology. In 2018\, he received the Commemorative Medallion awarded by the College of Psychology\, Nova Southeastern University. In 2024\, he received the ABPP Distinguished Service to the Profession Award\, 2023             His books include Assessment of Children: Cognitive Foundations and Applications (Seventh Edition)\, Foundations of Behavioral\, Social\, and Clinical Assessment of Children (Seventh Edition)\, and  Assessment with the WAIS–IV (with Joseph J. Ryan). The first five editions of Assessment of Children have been translated into Spanish. In 2007\, a Spanish translation and a Chinese translation (brief edition) of Assessment of Children\, Behavioral\, Social\, and Clinical Foundation (Fifth Edition) were published. 								\n				\n					\n		\n					\n		\n				\n						\n					\n			\n						\n						\n					Format and Schedule				\n				\n				\n						\n									Overview of Cognitive 7thRecent research on cognitive assessmentUsefulness of cognitive assessment with specific learning disability\, intellectual disability\, and giftedness								\n				\n					\n		\n					\n		\n				\n						\n					\n			\n						\n						\n					Continuing Education Credits 				\n				\n				\n						\n									The Psychologists’ Association of Alberta (PAA) is approved by the Canadian Psychological Association (CPA) to offer Continuing Education (CE) for psychologists. This workshop is offered for one and a half (1.5) hours of CE Credit. Full attendance at the workshop is required to receive Continuing Education Credits. Partial credit will not be awarded\, and late arrivals or early departure will preclude awarding of Continuing Education Credits. PAA maintains responsibility for the program. 								\n				\n					\n		\n					\n		\n				\n						\n					\n			\n						\n						\n					Cancellation and Refunds				\n				\n				\n						\n									Cancellation and refunds may be applied for by email or phone call to the PAA. Cancellations received fourteen (14) days prior to the Continuing Professional Development activity will receive a full refund of the registration fee\, less a $35.00 + GST processing fee. PAA reserves the right to cancel any activity\, in which case a full refund of the registration fee will be provided.
URL:https://paadev.pderaswebsites.com/event/assessment-of-children-cognitive-foundations-and-applications-seventh-edition-1-5-ce-credit-virtual/
LOCATION:Online
END:VEVENT
END:VCALENDAR