BEGIN:VCALENDAR
VERSION:2.0
PRODID:-//Psychologists’ Association of Alberta - ECPv6.15.13.1//NONSGML v1.0//EN
CALSCALE:GREGORIAN
METHOD:PUBLISH
X-WR-CALNAME:Psychologists’ Association of Alberta
X-ORIGINAL-URL:https://paadev.pderaswebsites.com
X-WR-CALDESC:Events for Psychologists’ Association of Alberta
REFRESH-INTERVAL;VALUE=DURATION:PT1H
X-Robots-Tag:noindex
X-PUBLISHED-TTL:PT1H
BEGIN:VTIMEZONE
TZID:America/Edmonton
BEGIN:DAYLIGHT
TZOFFSETFROM:-0700
TZOFFSETTO:-0600
TZNAME:MDT
DTSTART:20230312T090000
END:DAYLIGHT
BEGIN:STANDARD
TZOFFSETFROM:-0600
TZOFFSETTO:-0700
TZNAME:MST
DTSTART:20231105T080000
END:STANDARD
BEGIN:DAYLIGHT
TZOFFSETFROM:-0700
TZOFFSETTO:-0600
TZNAME:MDT
DTSTART:20240310T090000
END:DAYLIGHT
BEGIN:STANDARD
TZOFFSETFROM:-0600
TZOFFSETTO:-0700
TZNAME:MST
DTSTART:20241103T080000
END:STANDARD
BEGIN:DAYLIGHT
TZOFFSETFROM:-0700
TZOFFSETTO:-0600
TZNAME:MDT
DTSTART:20250309T090000
END:DAYLIGHT
BEGIN:STANDARD
TZOFFSETFROM:-0600
TZOFFSETTO:-0700
TZNAME:MST
DTSTART:20251102T080000
END:STANDARD
END:VTIMEZONE
BEGIN:VEVENT
DTSTART;TZID=America/Edmonton:20241126T120000
DTEND;TZID=America/Edmonton:20241126T130000
DTSTAMP:20260422T113740
CREATED:20240920T202536Z
LAST-MODIFIED:20240923T160838Z
UID:63466-1732622400-1732626000@paadev.pderaswebsites.com
SUMMARY:Adding Assessment as a Competency 1 CE-Credit - Virtual
DESCRIPTION:Abstract				\n				\n					\n		\n					\n		\n				\n						\n					\n			\n						\n						\n									This webinar will provide an introduction to the practice of assessment in psychology. Participants will gain an understanding of the different types of assessment\, the purposes for conducting assessments\, and an overview of the process and the end result. Participants will learn about the logistics and qualifications for integrating formal assessment as a professional competency. By the end of this presentation\, participants should have a good sense of whether they wish to pursue formal training in assessment. Even if participants decide not to pursue further training\, they will come away from the presentation able to explain the purpose and process of assessment to their clients\, helping clients find appropriate support. This webinar serves as the first of 12 modules in a broader course on building foundational knowledge. At the end of the webinar\, participants will have a better sense of what it takes to add assessment as a competency. If they decide to take the broader course\, they will develop an understanding of the history of assessment; culturally responsive assessment processes; cognitive\, academic\, social\, emotional\, behavioural\, neuropsychological\, and attentional assessment practices and measures; and the overall process of conducting assessments from intake through to report writing and debriefing results. Participants who take the whole course will have a strong grounding in assessment theory and will be strong candidates for supervised practice (supervisors will need to teach actual administration of measures themselves\, but participants will come equipped with familiarity with commonly used assessments and proficiency in theory and understanding. The full course will launch in November. 								\n				\n					\n		\n					\n		\n				\n						\n					\n			\n						\n						\n					Learning Objectives				\n				\n					\n		\n					\n		\n				\n						\n					\n			\n						\n						\n									Know the different types of assessment\, as well as the overall process of conducting a formal assessmentUnderstand the purpose of assessment\, what to look for when reading a report\, and what makes a good assessmentDecide whether to pursue formal training and supervised training in assessmentExplain the purpose and process of assessment in response to client inquiries								\n				\n					\n		\n					\n		\n				\n						\n					\n			\n						\n						\n					Presenter				\n				\n					\n		\n					\n		\n				\n						\n					\n			\n						\n						\n																														\n				\n					\n		\n				\n			\n						\n						\n					Mike Sornberger				\n				\n				\n						\n									Mike Sornberger is a registered psychologist with a Ph.D. and M.A. in School/Applied Child Psychology from McGill University. He has been conducting assessments since 2009\, and has worked in non-profit mental health settings across Calgary and Edmonton since 2013. He has overseen assessment programs and practices for youth and adults with unique mental health and trauma backgrounds\, worked with clients in specialized treatment programs\, and manages his own private practice where he supervises provisional psychologists in both therapy and assessment. Dr. Sornberger has taught at McGill University\, the University of Calgary\, and was previously an Associate Program Director at City University. Select courses previously taught include Assessment Theory and Practices\, Cognitive Assessment\, and Assessment in Counselling. 								\n				\n					\n		\n					\n		\n				\n						\n					\n			\n						\n						\n					Continuing Education Credits 				\n				\n				\n						\n									The Psychologists’ Association of Alberta (PAA) is approved by the Canadian Psychological Association (CPA) to offer Continuing Education (CE) for psychologists. This workshop is offered for one and a half (1.5) hours of CE Credit. Full attendance at the workshop is required to receive Continuing Education Credits. Partial credit will not be awarded\, and late arrivals or early departure will preclude awarding of Continuing Education Credits. PAA maintains responsibility for the program. 								\n				\n					\n		\n					\n		\n				\n						\n					\n			\n						\n						\n					Cancellation and Refunds				\n				\n				\n						\n									Cancellation and refunds may be applied for by email or phone call to the PAA. Cancellations received fourteen (14) days prior to the Continuing Professional Development activity will receive a full refund of the registration fee\, less a $35.00 + GST processing fee. PAA reserves the right to cancel any activity\, in which case a full refund of the registration fee will be provided.  
URL:https://paadev.pderaswebsites.com/event/adding-assessment-as-a-competency-1-ce-credit-virtual/
LOCATION:Online
END:VEVENT
END:VCALENDAR