BEGIN:VCALENDAR
VERSION:2.0
PRODID:-//Psychologists’ Association of Alberta - ECPv6.15.13.1//NONSGML v1.0//EN
CALSCALE:GREGORIAN
METHOD:PUBLISH
X-WR-CALNAME:Psychologists’ Association of Alberta
X-ORIGINAL-URL:https://paadev.pderaswebsites.com
X-WR-CALDESC:Events for Psychologists’ Association of Alberta
REFRESH-INTERVAL;VALUE=DURATION:PT1H
X-Robots-Tag:noindex
X-PUBLISHED-TTL:PT1H
BEGIN:VTIMEZONE
TZID:America/Edmonton
BEGIN:DAYLIGHT
TZOFFSETFROM:-0700
TZOFFSETTO:-0600
TZNAME:MDT
DTSTART:20230312T090000
END:DAYLIGHT
BEGIN:STANDARD
TZOFFSETFROM:-0600
TZOFFSETTO:-0700
TZNAME:MST
DTSTART:20231105T080000
END:STANDARD
BEGIN:DAYLIGHT
TZOFFSETFROM:-0700
TZOFFSETTO:-0600
TZNAME:MDT
DTSTART:20240310T090000
END:DAYLIGHT
BEGIN:STANDARD
TZOFFSETFROM:-0600
TZOFFSETTO:-0700
TZNAME:MST
DTSTART:20241103T080000
END:STANDARD
BEGIN:DAYLIGHT
TZOFFSETFROM:-0700
TZOFFSETTO:-0600
TZNAME:MDT
DTSTART:20250309T090000
END:DAYLIGHT
BEGIN:STANDARD
TZOFFSETFROM:-0600
TZOFFSETTO:-0700
TZNAME:MST
DTSTART:20251102T080000
END:STANDARD
END:VTIMEZONE
BEGIN:VEVENT
DTSTART;TZID=America/Edmonton:20240927T170000
DTEND;TZID=America/Edmonton:20240927T220000
DTSTAMP:20260422T195916
CREATED:20240530T191515Z
LAST-MODIFIED:20240919T165920Z
UID:59596-1727456400-1727474400@paadev.pderaswebsites.com
SUMMARY:2024 PAA Gala
DESCRIPTION:Building Tomorrow Together 								\n				\n					\n		\n					\n		\n				\n						\n					\n			\n						\n						\n									Our annual celebration in recognition of PAA Award Recipients and our province’s newly registered psychologists. This unique event brings together exceptional leaders and outstanding researchers in the field of psychology and remarkable community builders. Alongside family and friends\, immerse yourself into an unforgettable evening of fellowship and inspiration. 								\n				\n					\n		\n					\n		\n				\n						\n					\n			\n						\n						\n					\n		\n					\n		\n				\n						\n					\n			\n						\n						\n																														\n				\n					\n		\n				\n			\n						\n						\n									Program 5:00       Cocktail Hour 6:00       Welcome 6:30       Dinner 7:30       Welcome to the Profession 8:00       Awards 9:30       DJ & Dance 								\n				\n					\n		\n					\n		\n				\n						\n					\n			\n						\n						\n									The PAA Gala is hosted in recognition of the hard work and dedication it takes to become a Registered Psychologist and celebrates those exemplars and leaders with outstanding achievements in the field. 								\n				\n					\n		\n					\n		\n				\n						\n					\n			\n						\n						\n									PAA has a limited number of hotel rooms available at Calgary’s beautiful Grey Eagle Resort. \nTo book\, please contact the Reservation Desk directly at 1.844.719.8777 or 403.719.8777 to provide the group name and dates of stay. \n2024 Psychology Association Gala – Block ID: 671707 								\n				\n					\n		\n					\n		\n				\n						\n					\n			\n						\n						\n									Bring a guest and celebrate together!   Tickets are limited to seats available.  								\n				\n					\n		\n					\n		\n				\n						\n					\n			\n						\n						\n									Ticket sales are non-refundable. 								\n				\n				\n						\n									Semi-Formal or Formal Attire 								\n				\n					\n		\n					\n		\n				\n						\n					\n			\n						\n						\n									Thank you to our sponsors for making this event possible!
URL:https://paadev.pderaswebsites.com/event/2024-paa-gala/
LOCATION:Grey Eagle\, 3777 Grey Eagle Dr\, Calgary\, Alberta\, T3E 3X8\, Canada
END:VEVENT
END:VCALENDAR