BEGIN:VCALENDAR
VERSION:2.0
PRODID:-//Psychologists’ Association of Alberta - ECPv6.15.13.1//NONSGML v1.0//EN
CALSCALE:GREGORIAN
METHOD:PUBLISH
X-WR-CALNAME:Psychologists’ Association of Alberta
X-ORIGINAL-URL:https://paadev.pderaswebsites.com
X-WR-CALDESC:Events for Psychologists’ Association of Alberta
REFRESH-INTERVAL;VALUE=DURATION:PT1H
X-Robots-Tag:noindex
X-PUBLISHED-TTL:PT1H
BEGIN:VTIMEZONE
TZID:America/Edmonton
BEGIN:DAYLIGHT
TZOFFSETFROM:-0700
TZOFFSETTO:-0600
TZNAME:MDT
DTSTART:20220313T090000
END:DAYLIGHT
BEGIN:STANDARD
TZOFFSETFROM:-0600
TZOFFSETTO:-0700
TZNAME:MST
DTSTART:20221106T080000
END:STANDARD
BEGIN:DAYLIGHT
TZOFFSETFROM:-0700
TZOFFSETTO:-0600
TZNAME:MDT
DTSTART:20230312T090000
END:DAYLIGHT
BEGIN:STANDARD
TZOFFSETFROM:-0600
TZOFFSETTO:-0700
TZNAME:MST
DTSTART:20231105T080000
END:STANDARD
BEGIN:DAYLIGHT
TZOFFSETFROM:-0700
TZOFFSETTO:-0600
TZNAME:MDT
DTSTART:20240310T090000
END:DAYLIGHT
BEGIN:STANDARD
TZOFFSETFROM:-0600
TZOFFSETTO:-0700
TZNAME:MST
DTSTART:20241103T080000
END:STANDARD
END:VTIMEZONE
BEGIN:VEVENT
DTSTART;TZID=America/Edmonton:20230929T173000
DTEND;TZID=America/Edmonton:20230929T220000
DTSTAMP:20260425T130356
CREATED:20230608T190930Z
LAST-MODIFIED:20250429T201047Z
UID:38473-1696008600-1696024800@paadev.pderaswebsites.com
SUMMARY:2023 PAA Gala
DESCRIPTION:Illuminating the Journey:Celebrating Leaders in Psychology and Welcoming Newly Registered Psychologists								\n				\n					\n		\n					\n		\n				\n						\n					\n			\n						\n						\n									The Psychologists’ Association of Alberta is delighted to invite you to the 2025 PAA Gala!  Join our annual celebration in recognition of PAA Award Recipients and our province’s newly registered psychologists. This unique event brings together exceptional leaders and outstanding researchers in the field of psychology and remarkable community builders. Alongside family and friends\, immerse yourself into an unforgettable evening of fellowship and inspiration.  								\n				\n					\n		\n					\n		\n				\n						\n					\n			\n						\n						\n																														\n				\n					\n		\n				\n			\n						\n						\n									Program 5:30 PM Cocktail Hour & Silent Auction 6:00 PM Welcome 6:30 PM Dinner 7:30 PM Welcome to the Profession8:00 PM Awards9:30 PM Closing  								\n				\n					\n		\n					\n		\n				\n						\n					\n			\n						\n						\n									PAA Gala\, is hosted in recognition of the hard work and dedication it takes to become a Registered Psychologist and celebrates those exemplars and leaders with outstanding achievements in the field. Early Bird Tickets on Sale June 1st\, 2025. Limited Tickets available. Ticket sales are non-refundable. Semi-Formal or Formal Attire 
URL:https://paadev.pderaswebsites.com/event/2023-paa-gala/
LOCATION:Renaissance Edmonton Hotel\, 4236 36 St E\, Nisku\, Alberta\, T0C 0V0\, Canada
END:VEVENT
END:VCALENDAR